BEGIN:VCALENDAR
VERSION:2.0
PRODID:-//squashnet.de - ECPv6.6.4.2//NONSGML v1.0//EN
CALSCALE:GREGORIAN
METHOD:PUBLISH
X-ORIGINAL-URL:https://squashnet.de
X-WR-CALDESC:Veranstaltungen für squashnet.de
REFRESH-INTERVAL;VALUE=DURATION:PT1H
X-Robots-Tag:noindex
X-PUBLISHED-TTL:PT1H
BEGIN:VTIMEZONE
TZID:UTC
BEGIN:STANDARD
TZOFFSETFROM:+0000
TZOFFSETTO:+0000
TZNAME:UTC
DTSTART:20260101T000000
END:STANDARD
END:VTIMEZONE
BEGIN:VEVENT
DTSTART;VALUE=DATE:20260113
DTEND;VALUE=DATE:20260119
DTSTAMP:20260422T145244
CREATED:20260118T125142Z
LAST-MODIFIED:20260120T050835Z
UID:37459-1768262400-1768780799@squashnet.de
SUMMARY:Men's Squash in the Land 2026 (PSA Silver M97)\, Cleveland
DESCRIPTION:Men:\nFinal:\n[1] Paul Coll (NZL) bt [2] Leonel Cardenas (MEX) 	11-7\, 14-12\, 11-4 (63m) \nSemi-finals:\n[1] Paul Coll (NZL) bt [3] Grégoire Marche (FRA) 	11-4\, 12-14\, 11-4\, 11-1 (55m)\n[2] Leonel Cardenas (MEX) bt [4] Greg Lobban (SCO) 	7-11\, 11-8\, 11-9\, 11-5 (69m) \nQuarter-finals:\n[1] Paul Coll (NZL) bt [6] Bernat Jaume (ESP) 	11-7\, 11-3\, 11-3 (37m)\n[3] Grégoire Marche (FRA) bt [9/16] Nathan Lake (ENG) 	9-11\, 11-7\, 11-7\, 11-9 (62m)\n[4] Greg Lobban (SCO) bt [7] Raphael Kandra (GER) 	9-11\, 11-8\, 11-9\, 10-12\, 11-1 (79m)\n[2] Leonel Cardenas (MEX) bt [9/16] Veer Chotrani (IND) 	11-3\, 11-7\, 11-8 (39m) \n2nd round:\n[1] Paul Coll (NZL) bt [9/16] Melvil Scianimanico (FRA) 	11-7\, 11-4\, 11-5 (39m)\n[6] Bernat Jaume (ESP) bt [9/16] Ivan Perez (ESP) 	11-6\, 12-14\, 11-8\, 11-5 (61m)\n[9/16] Nathan Lake (ENG) bt [5] Auguste Dussourd (FRA) 	11-4\, 12-10\, 11-6 (33m)\n[3] Grégoire Marche (FRA) bt [9/16] Toufik Mekhalfi (FRA) 	11-9\, 11-9\, 8-11\, 11-6 (61m)\n[4] Greg Lobban (SCO) bt Muhammad Asim Khan (PAK) 	11-3\, 11-3\, 9-11\, 0-11\, 11-5 (68m)\n[7] Raphael Kandra (GER) bt [9/16] Perry Malik (ENG) 	11-9\, 11-8\, 11-5 (26m)\n[9/16] Veer Chotrani (IND) bt [8] Yannick Wilhelmi (SUI) 	11-6\, 11-8\, 11-3 (32m)\n[2] Leonel Cardenas (MEX) bt [9/16] Mazen Hesham (EGY) 	11-5\, 13-11\, 11-7 (31m) \n1st round:\n[1] Paul Coll (NZL) 	bye\n[9/16] Melvil Scianimanico (FRA) bt [WC] Omar Said (EGY) 	7-11\, 11-5\, 11-3\, 11-2 (35m)\n[9/16] Ivan Perez (ESP) bt Yassin Elshafei (EGY) 	11-2\, 11-9\, 9-11\, 12-10 (51m)\n[6] Bernat Jaume (ESP) 	bye\n[5] Auguste Dussourd (FRA) 	bye\n[9/16] Nathan Lake (ENG) bt Matthew Lai (HKG) 	11-7\, 10-12\, 11-6\, 9-11\, 11-5 (54m)\n[9/16] Toufik Mekhalfi (FRA) bt Rui Soares (POR) 	11-6\, 9-11\, 11-1\, 7-11\, 11-7 (55m)\n[3] Grégoire Marche (FRA) 	bye\n[4] Greg Lobban (SCO) 	bye\nMuhammad Asim Khan (PAK) bt [9/16] Ryunosuke Tsukue (JPN) 	11-7\, 11-4\, 13-15\, 11-6 (37m)\n[9/16] Perry Malik (ENG) bt Marwan Tamer (EGY) 	11-3\, 7-11\, 11-4\, 11-9 (47m)\n[7] Raphael Kandra (GER) 	bye\n[8] Yannick Wilhelmi (SUI) 	bye\n[9/16] Veer Chotrani (IND) bt [WC] Ignatius Lahorra (USA) 	11-3\, 11-3\, 11-4 (24m)\n[9/16] Mazen Hesham (EGY) bt Mohamed Nasser (EGY) 	9-11\, 11-6\, 11-8\, 11-9 (47m)\n[2] Leonel Cardenas (MEX) 	bye
URL:https://squashnet.de/squash-event/mens-squash-in-the-land-2026-psa-silver-m97-cleveland-37459/
LOCATION:Cleveland Racquet Club\, Cleveland\, United States
CATEGORIES:PSA Men
END:VEVENT
BEGIN:VEVENT
DTSTART;VALUE=DATE:20260113
DTEND;VALUE=DATE:20260119
DTSTAMP:20260422T145244
CREATED:20260118T125341Z
LAST-MODIFIED:20260120T050740Z
UID:37460-1768262400-1768780799@squashnet.de
SUMMARY:Women's Squash in the Land 2026 (PSA Silver W97)\, Cleveland
DESCRIPTION:Women:\nFinal:\n[1] Olivia Weaver (USA) bt [9/16] Sabrina Sobhy (USA) 	11-5\, 11-2\, 11-2 (24m)  \nSemi-finals:\n[1] Olivia Weaver (USA) bt [3] Jasmine Hutton (ENG) 	11-3\, 11-4\, 11-4 (26m)\n[9/16] Sabrina Sobhy (USA) bt [2] Nele Gilis (BEL) 	11-8\, 11-5\, 9-11\, 11-3 (55m) \nQuarter-finals:\n[1] Olivia Weaver (USA) bt [6] Marina Stefanoni (USA) 	11-7\, 11-7\, 11-4 (27m)\n[3] Jasmine Hutton (ENG) bt [5] Malak Khafagy (EGY) 	11-5\, 11-8\, 9-11\, 7-11\, 12-10 (56m)\n[9/16] Sabrina Sobhy (USA) bt [8] Hollie Naughton (CAN) 	11-7\, 11-5\, 11-6 (30m)\n[2] Nele Gilis (BEL) bt [9/16] Lucy Beecroft (ENG) 	6-11\, 11-9\, 11-7\, 6-11\, 11-5 (67m) \n2nd round:\n[1] Olivia Weaver (USA) bt [9/16] Nour Aboulmakarim (EGY) 	11-3\, 11-4\, 11-3 (22m)\n[6] Marina Stefanoni (USA) bt [9/16] Tomato Ho (HKG) 	11-1\, 8-11\, 11-4\, 11-2 (29m)\n[5] Malak Khafagy (EGY) bt Alicia Mead (ENG) 	11-8\, 4-11\, 6-11\, 11-5\, 11-7 (43m)\n[3] Jasmine Hutton (ENG) bt Marta Dominguez (ESP) 	11-2\, 11-7\, 11-4 (27m)\n[9/16] Sabrina Sobhy (USA) bt [4] Rachel Arnold (MAS) 	11-5\, 9-11\, 11-6\, 11-5 (37m)\n[8] Hollie Naughton (CAN) bt [9/16] Saran Nghiem (ENG) 	11-6\, 9-11\, 11-5\, 11-6 (36m)\n[9/16] Lucy Beecroft (ENG) bt [7] Georgia Adderley (SCO) 	11-8\, 8-11\, 10-12\, 11-7\, 12-10 (59m)\n[2] Nele Gilis (BEL) bt [9/16] Grace Gear (ENG) 	11-9\, 11-4\, 11-4 (31m) \n1st round:\n[1] Olivia Weaver (USA) 	bye\n[9/16] Nour Aboulmakarim (EGY) bt Hannah Craig (IRL) 	11-6\, 9-11\, 11-8\, 11-4 (39m)\n[9/16] Tomato Ho (HKG) bt [WC] Audrey Berling (USA) 	11-4\, 11-3\, 11-1 (16m)\n[6] Marina Stefanoni (USA) 	bye\n[5] Malak Khafagy (EGY) 	bye\nAlicia Mead (ENG) bt [9/16] Nicole Bunyan (CAN) 	11-4\, 11-6\, 11-9 (26m)\nMarta Dominguez (ESP) bt [9/16] Nour Heikal (EGY) 	11-6\, 4-11\, 11-6\, 11-8 (32m)\n[3] Jasmine Hutton (ENG) 	bye\n[4] Rachel Arnold (MAS) 	bye\n[9/16] Sabrina Sobhy (USA) bt Alina Bushma (UKR) 	11-3\, 11-1\, 11-2 (24m)\n[9/16] Saran Nghiem (ENG) bt Madeleine Hylland (NOR) 	12-10\, 11-2\, 11-9 (26m)\n[8] Hollie Naughton (CAN) 	bye\n[7] Georgia Adderley (SCO) 	bye\n[9/16] Lucy Beecroft (ENG) bt Hayley Ward (RSA) 	11-5\, 11-2\, 8-11\, 11-6 (32m)\n[9/16] Grace Gear (ENG) bt [WC] Dixon Hill (USA) 	11-5\, 11-9\, 14-12 (30m)\n[2] Nele Gilis (BEL) 	bye
URL:https://squashnet.de/squash-event/womens-squash-in-the-land-2026-psa-silver-w97-cleveland-37460/
LOCATION:Cleveland Racquet Club\, Cleveland\, United States
CATEGORIES:PSA Women
END:VEVENT
END:VCALENDAR