BEGIN:VCALENDAR
VERSION:2.0
PRODID:-//squashnet.de - ECPv6.6.4.2//NONSGML v1.0//EN
CALSCALE:GREGORIAN
METHOD:PUBLISH
X-ORIGINAL-URL:https://squashnet.de
X-WR-CALDESC:Veranstaltungen für squashnet.de
REFRESH-INTERVAL;VALUE=DURATION:PT1H
X-Robots-Tag:noindex
X-PUBLISHED-TTL:PT1H
BEGIN:VTIMEZONE
TZID:UTC
BEGIN:STANDARD
TZOFFSETFROM:+0000
TZOFFSETTO:+0000
TZNAME:UTC
DTSTART:20260101T000000
END:STANDARD
END:VTIMEZONE
BEGIN:VEVENT
DTSTART;VALUE=DATE:20260212
DTEND;VALUE=DATE:20260217
DTSTAMP:20260425T112257
CREATED:20260212T104130Z
LAST-MODIFIED:20260217T064852Z
UID:37500-1770854400-1771286399@squashnet.de
SUMMARY:Men's Texas Open 2026 (PSA Gold\, M120)\, Houston
DESCRIPTION:Men:\nFinal:\n[1] Nour ElSherbini (EGY) bt [2] Olivia Weaver (USA) 	13-15\, 13-11\, 12-14\, 11-8\, 11-8 (78m)   \nSemi-finals:\n[1] Diego Elias (PER) bt [3] Marwan ElShorbagy (ENG) 	11-1\, 6-11\, 11-1\, 11-1 (37m)\n[4] Victor Crouin (FRA) bt Melvil Scianimanico (FRA) 	11-6\, 11-5\, 11-5 (43m)  \nQuarter-finals:\n[1] Diego Elias (PER) bt Muhammad Ashab Irfan (PAK) 	11-8\, 11-9\, 11-8 (39m)\n[3] Marwan ElShorbagy (ENG) bt [9/16] Dimitri Steinmann (SUI) 	8-11\, 11-9\, 11-9\, 11-4 (59m)\n[4] Victor Crouin (FRA) bt [7] Aly Abou Eleinen (EGY) 	16-14\, 7-11\, 11-6\, 11-7 (64m)\nMelvil Scianimanico (FRA) bt [2] Karim Gawad (EGY) 	11-6\, 11-7\, 11-9 (38m)  \n2nd round:\n[1] Diego Elias (PER) bt [9/16] Timothy Brownell (USA) 	11-6\, 11-5\, 11-8 (40m)\nMuhammad Ashab Irfan (PAK) bt [8] Eain Yow Ng (MAS) 	11-7\, 8-11\, 4-11\, 11-8\, 14-12 (73m)\n[9/16] Dimitri Steinmann (SUI) bt [6] Youssef Soliman (EGY) 	11-9\, 11-4\, 6-11\, 2-11\, 9-5 ret. (69m)\n[3] Marwan ElShorbagy (ENG) bt [9/16] Grégoire Marche (FRA) 	9-11\, 11-8\, 11-9\, 11-4 (46m)\n[4] Victor Crouin (FRA) bt Nathan Lake (ENG) 	9-11\, 11-7\, 11-8\, 11-5 (57m)\n[7] Aly Abou Eleinen (EGY) bt Moustafa Elsirty (EGY) 	11-5\, 11-7\, 11-4 (25m)\nMelvil Scianimanico (FRA) bt [5] Mohamed ElShorbagy (ENG) 	9-11\, 11-6\, 11-4\, 11-8 (47m)\n[2] Karim Gawad (EGY) bt Nick Wall (ENG) 	11-9\, 7-11\, 11-6\, 11-9 (62m)  \n1st round:\n[1] Diego Elias (PER) 	bye\n[9/16] Timothy Brownell (USA) bt Balazs Farkas (HUN) 	11-8\, 11-2\, 11-5 (35m)\nMuhammad Ashab Irfan (PAK) bt [9/16] Yannick Wilhelmi (SUI) 	11-8\, 11-6\, 11-9 (46m)\n[8] Eain Yow Ng (MAS) 	bye\n[6] Youssef Soliman (EGY) 	bye\n[9/16] Dimitri Steinmann (SUI) bt [WC] Muhammad Huzaifa Ibrahim (PAK) 	11-5\, 11-7\, 11-6 (33m)\n[9/16] Grégoire Marche (FRA) bt Sam Todd (ENG) 	8-11\, 11-1\, 11-4\, 11-8 (47m)\n[3] Marwan ElShorbagy (ENG) 	bye\n[4] Victor Crouin (FRA) 	bye\nNathan Lake (ENG) bt [9/16] Ramit Tandon (IND) 	11-8\, 4-3 ret. (16m)\nMoustafa Elsirty (EGY) bt [9/16] Bernat Jaume (ESP) 	8-11\, 11-7\, 12-10\, 13-11 (71m)\n[7] Aly Abou Eleinen (EGY) 	bye\n[5] Mohamed ElShorbagy (ENG) 	bye\nMelvil Scianimanico (FRA) bt [9/16] Noor Zaman (PAK) 	8-11\, 11-3\, 11-9\, 11-4 (45m)\nNick Wall (ENG) bt [9/16] Kareem El Torkey (EGY) 	11-2\, 11-6\, 11-3 (26m)\n[2] Karim Gawad (EGY) 	bye
URL:https://squashnet.de/squash-event/mens-texas-open-2026-psa-gold-m120-houston-37500/
LOCATION:Houston Squash Club\, 1530 W Sam Houston Pkwy N #120\, Houston\, Texas\, 77043\, Vereinigte Staaten von Amerika
CATEGORIES:PSA Men
END:VEVENT
BEGIN:VEVENT
DTSTART;VALUE=DATE:20260212
DTEND;VALUE=DATE:20260217
DTSTAMP:20260425T112257
CREATED:20260212T103822Z
LAST-MODIFIED:20260216T071139Z
UID:37499-1770854400-1771286399@squashnet.de
SUMMARY:Women's Texas Open 2026 (PSA Gold\, W120)\, Houston
DESCRIPTION:Women:\nFinal:\n[1] Nour ElSherbini (EGY) v [2] Olivia Weaver (USA) \nSemi-finals:\n[1] Nour ElSherbini (EGY) bt [5] Marina Stefanoni (USA) 	11-9\, 11-8\, 11-9 (34m)\n[2] Olivia Weaver (USA) bt [3] Georgina Kennedy (ENG) 	11-5\, 11-3\, 11-4 (30m)  \nQuarter-finals:\n[1] Nour ElSherbini (EGY) bt [6] Georgia Adderley (SCO) 	11-5\, 11-1\, 11-3 (31m)\n[5] Marina Stefanoni (USA) bt [4] Salma Hany (EGY) 	11-2\, 11-2\, 8-2 ret. (17m)\n[3] Georgina Kennedy (ENG) bt Nadien Elhammamy (EGY) 	8-11\, 11-8\, 11-3\, 8-11\, 11-8 (53m)\n[2] Olivia Weaver (USA) bt [8] Zeina Mickawy (EGY) 	4-11\, 11-8\, 11-3\, 11-4 (36m)  \n2nd round:\n[1] Nour ElSherbini (EGY) bt [9/16] Mariam Metwally (EGY) 	11-7\, 11-5\, 11-9 (27m)\n[6] Georgia Adderley (SCO) bt [9/16] Torrie Malik (ENG) 	11-6\, 2-11\, 11-7\, 11-6 (44m)\n[5] Marina Stefanoni (USA) bt [9/16] Hana Ramadan (EGY) 	11-3\, 7-11\, 11-3\, 11-13\, 11-7 (47m)\n[4] Salma Hany (EGY) bt [9/16] Ka Yi Lee (HKG) 	11-5\, 12-10\, 11-1 (29m)\n[3] Georgina Kennedy (ENG) bt [9/16] Grace Gear (ENG) 	11-4\, 11-6\, 11-0 (22m)\nNadien Elhammamy (EGY) bt [7] Kenzy Ayman (EGY) 	11-9\, 15-13\, 8-11\, 11-5 (47m)\n[8] Zeina Mickawy (EGY) bt [9/16] Lucy Turmel (ENG) 	11-5\, 11-2\, 7-11\, 11-8 (40m)\n[2] Olivia Weaver (USA) bt Nour Heikal (EGY) 	11-3\, 11-6\, 11-6 (31m)  \n1st round:\n[1] Nour ElSherbini (EGY) 	bye\n[9/16] Mariam Metwally (EGY) bt [WC] Isabella Tang (USA) 	12-10\, 13-11\, 11-7 (33m)\n[9/16] Torrie Malik (ENG) bt Nicole Bunyan (CAN) 	11-5\, 11-6\, 11-5 (28m)\n[6] Georgia Adderley (SCO) 	bye\n[5] Marina Stefanoni (USA) 	bye\n[9/16] Hana Ramadan (EGY) bt Tsz-Wing Tong (HKG) 	11-5\, 11-7\, 11-8 (27m)\n[9/16] Ka Yi Lee (HKG) bt Menna Hamed (EGY) 	11-8\, 11-5\, 11-3 (25m)\n[4] Salma Hany (EGY) 	bye\n[3] Georgina Kennedy (ENG) 	bye\n[9/16] Grace Gear (ENG) bt Nadine Shahin (EGY) 	11-4\, 11-3\, 11-7 (21m)\nNadien Elhammamy (EGY) bt [9/16] Lucy Beecroft (ENG) 	13-11\, 8-11\, 11-5\, 11-3 (39m)\n[7] Kenzy Ayman (EGY) 	bye\n[8] Zeina Mickawy (EGY) 	bye\n[9/16] Lucy Turmel (ENG) bt Alina Bushma (UKR) 	13-11\, 11-9\, 11-8 (40m)\nNour Heikal (EGY) bt [9/16] Nour Aboulmakarim (EGY) 	6-11\, 11-6\, 8-11\, 11-8\, 12-10 (53m)\n[2] Olivia Weaver (USA) 	bye
URL:https://squashnet.de/squash-event/womens-texas-open-2026-psa-gold-w120-houston-37499/
LOCATION:Houston Squash Club\, 1530 W Sam Houston Pkwy N #120\, Houston\, Texas\, 77043\, Vereinigte Staaten von Amerika
CATEGORIES:PSA Women
END:VEVENT
END:VCALENDAR