BEGIN:VCALENDAR
VERSION:2.0
PRODID:-//squashnet.de - ECPv6.6.4.2//NONSGML v1.0//EN
CALSCALE:GREGORIAN
METHOD:PUBLISH
X-ORIGINAL-URL:https://squashnet.de
X-WR-CALDESC:Veranstaltungen für squashnet.de
REFRESH-INTERVAL;VALUE=DURATION:PT1H
X-Robots-Tag:noindex
X-PUBLISHED-TTL:PT1H
BEGIN:VTIMEZONE
TZID:UTC
BEGIN:STANDARD
TZOFFSETFROM:+0000
TZOFFSETTO:+0000
TZNAME:UTC
DTSTART:20250101T000000
END:STANDARD
END:VTIMEZONE
BEGIN:VEVENT
DTSTART;VALUE=DATE:20251203
DTEND;VALUE=DATE:20251208
DTSTAMP:20260421T184342
CREATED:20251204T130919Z
LAST-MODIFIED:20251209T044922Z
UID:37415-1764720000-1765151999@squashnet.de
SUMMARY:Men's Madeira International Open 2025 (PSA Challenger M15)\, Madeira
DESCRIPTION:Men:\nFinal:\n[1] Patrick Rooney (ENG) bt [3] Rory Stewart (SCO) 	11-2\, 11-3\, 11-9 (29m) \nSemi-finals:\n[1] Patrick Rooney (ENG) bt [9/16] Brice Nicolas (FRA) 	11-6\, 11-2\, 11-5 (34m)\n[3] Rory Stewart (SCO) bt [5] Shahjahan Khan (USA) 	11-4\, 10-12\, 11-7\, 3-11\, 11-3 (61m)  \nQuarter-finals:\n[1] Patrick Rooney (ENG) bt [7] Jeremias Azaña (ARG) 	11-5\, 16-18\, 11-7\, 8-11\, 11-5 (67m)\n[9/16] Brice Nicolas (FRA) bt [9/16] Nicholas Spizzirri (USA) 	11-9\, 11-4\, 11-6 (41m)\n[3] Rory Stewart (SCO) bt [9/16] Joshua Phinera (FRA) 	11-3\, 11-5\, 11-3 (23m)\n[5] Shahjahan Khan (USA) bt [9/16] Lwamba Chileshe (NZL) 	9-11\, 11-4\, 11-7\, 11-4 (43m)  \n2nd round:\n[1] Patrick Rooney (ENG) bt [9/16] Bailey Malik (ENG) 	11-6\, 12-10\, 11-5 (37m)\n[7] Jeremias Azaña (ARG) bt [9/16] Sam Buckley (IRL) 	4-11\, 11-8\, 11-8\, 8-11\, 11-8 (71m)\n[9/16] Brice Nicolas (FRA) bt [8] David Bernet (SUI) 	11-5\, 11-5\, 11-4 (39m)\n[9/16] Nicholas Spizzirri (USA) bt [4] Leandro Romiglio (ARG) 	11-9\, 11-5\, 11-8 (38m)\n[3] Rory Stewart (SCO) bt Baptiste Bouin (FRA) 	12-10\, 9-11\, 11-7\, 11-7 (57m)\n[9/16] Joshua Phinera (FRA) bt [6] Rui Soares (POR) 	11-9\, 7-11\, 11-5\, 11-5 (49m)\n[5] Shahjahan Khan (USA) bt [9/16] Noah Meredith (ENG) 	3-11\, 9-11\, 11-9\, 11-9\, 12-10 (62m)\n[9/16] Lwamba Chileshe (NZL) bt [2] Matias Knudsen (COL) 	3-11\, 7-11\, 11-6\, 11-2\, 11-7 (51m)  \n1st round:\n[1] Patrick Rooney (ENG) 	bye\n[9/16] Bailey Malik (ENG) bt [WC] Diego Pita (POR) 	11-8\, 11-2\, 11-8 (27m)\n[9/16] Sam Buckley (IRL) bt Bradley Fullick (AUS) 	11-6\, 11-7\, 11-6 (32m)\n[7] Jeremias Azaña (ARG) 	bye\n[8] David Bernet (SUI) 	bye\n[9/16] Brice Nicolas (FRA) bt David Maier (LIE) 	11-5\, 11-6\, 11-9 (32m)\n[9/16] Nicholas Spizzirri (USA) bt [WC] Bruno Gomes (POR) 	11-5\, 11-5\, 11-8 (21m)\n[4] Leandro Romiglio (ARG) 	bye\n[3] Rory Stewart (SCO) 	bye\nBaptiste Bouin (FRA) bt [9/16] Henrik Mustonen (FIN) 	7-11\, 11-4\, 11-3\, 11-3 (26m)\n[9/16] Joshua Phinera (FRA) bt Rory Richmond (SCO) 	13-11\, 9-11\, 11-9\, 11-7 (59m)\n[6] Rui Soares (POR) 	bye\n[5] Shahjahan Khan (USA) 	bye\n[9/16] Noah Meredith (ENG) bt Jared Carter (ENG) 	6-11\, 12-10\, 15-13\, 11-8 (49m)\n[9/16] Lwamba Chileshe (NZL) bt Christopher Gordon (USA) 	11-8\, 11-7\, 11-7 (33m)\n[2] Matias Knudsen (COL) 	bye
URL:https://squashnet.de/squash-event/mens-madeira-international-open-2025-psa-challenger-m15-madeira-37415/
LOCATION:Galo Active Health Club\, Caniço\, Portugal
CATEGORIES:PSA Men
END:VEVENT
BEGIN:VEVENT
DTSTART;VALUE=DATE:20251203
DTEND;VALUE=DATE:20251208
DTSTAMP:20260421T184342
CREATED:20251204T131151Z
LAST-MODIFIED:20251209T044825Z
UID:37416-1764720000-1765151999@squashnet.de
SUMMARY:Women's Madeira International Open 2025 (PSA Challenger W6)\, Madeira
DESCRIPTION:Women:\nFinal:\n[4] Farida Walid (EGY) bt [2] Menna Walid (EGY) 	11-5\, 2-11\, 6-11\, 13-11\, 11-2 (58m) \nSemi-finals:\n[4] Farida Walid (EGY) bt [1] Rana Ismail (EGY) 	11-5\, 9-11\, 7-11\, 11-6\, 11-6 (61m)\n[2] Menna Walid (EGY) bt [3] Breanne Flynn (IRL) 	11-5\, 11-9\, 5-11\, 12-10 (40m)  \nQuarter-finals:\n[1] Rana Ismail (EGY) bt [5] Karolína Šrámková (CZE) 	11-9\, 11-8\, 11-4 (26m)\n[4] Farida Walid (EGY) bt [6] Erisa Sano Herring (JPN) 	11-6\, 5-11\, 11-1\, 11-5 (32m)\n[3] Breanne Flynn (IRL) bt [9/16] Maya Weishar (GER) 	11-9\, 11-2\, 11-3 (24m)\n[2] Menna Walid (EGY) bt [8] Catarina Nunes (POR) 	11-3\, 10-12\, 11-4\, 11-5 (24m)  \n2nd round:\n[1] Rana Ismail (EGY) bt [9/16] Léa Barbeau (FRA) 	11-7\, 18-16\, 11-7 (30m)\n[5] Karolína Šrámková (CZE) bt [9/16] Chloe Celine Kalvø (NOR) 	11-5\, 11-2\, 11-7 (23m)\n[6] Erisa Sano Herring (JPN) bt [9/16] Megan van Drongelen (NED) 	5-11\, 4-11\, 11-6\, 11-7\, 11-6 (39m)\n[4] Farida Walid (EGY) bt [9/16] Caroline Lyng (DEN) 	9-11\, 11-8\, 11-1\, 11-5 (36m)\n[3] Breanne Flynn (IRL) bt [9/16] Yu Jie Chen (MAS) 	10-12\, 11-6\, 11-8\, 11-5 (35m)\n[9/16] Maya Weishar (GER) bt [7] Isabel McCullough (ENG) 	8-11\, 11-6\, 11-6\, 11-8 (41m)\n[8] Catarina Nunes (POR) bt [WC] Mariana Ventura Martins (POR) 	11-2\, 11-3\, 11-4 (19m)\n[2] Menna Walid (EGY) bt Yu Ng Chen (MAS) 	11-9\, 11-8\, 11-0 (21m)  \n1st round:\n[1] Rana Ismail (EGY) 	bye\n[9/16] Léa Barbeau (FRA) 	bye\n[9/16] Chloe Celine Kalvø (NOR) bt Francesca Whyte (ENG) 	11-1\, 11-6\, 11-2 (17m)\n[5] Karolína Šrámková (CZE) 	bye\n[6] Erisa Sano Herring (JPN) 	bye\n[9/16] Megan van Drongelen (NED) 	bye\n[9/16] Caroline Lyng (DEN) 	bye\n[4] Farida Walid (EGY) 	bye\n[3] Breanne Flynn (IRL) 	bye\n[9/16] Yu Jie Chen (MAS) 	bye\n[9/16] Maya Weishar (GER) 	bye\n[7] Isabel McCullough (ENG) 	bye\n[8] Catarina Nunes (POR) 	bye\n[WC] Mariana Ventura Martins (POR) bt Laura Catanho (POR) 	11-4\, 11-4\, 11-4 (18m)\nYu Ng Chen (MAS) bt [9/16] Tereza Široká (CZE) 	11-8\, 8-11\, 11-6\, 11-6 (38m)\n[2] Menna Walid (EGY) 	bye
URL:https://squashnet.de/squash-event/womens-madeira-international-open-2025-psa-challenger-w6-madeira-37416/
LOCATION:Galo Active Health Club\, Caniço\, Portugal
CATEGORIES:PSA Women
END:VEVENT
END:VCALENDAR