BEGIN:VCALENDAR
VERSION:2.0
PRODID:-//squashnet.de - ECPv6.6.4.2//NONSGML v1.0//EN
CALSCALE:GREGORIAN
METHOD:PUBLISH
X-ORIGINAL-URL:https://squashnet.de
X-WR-CALDESC:Veranstaltungen für squashnet.de
REFRESH-INTERVAL;VALUE=DURATION:PT1H
X-Robots-Tag:noindex
X-PUBLISHED-TTL:PT1H
BEGIN:VTIMEZONE
TZID:UTC
BEGIN:STANDARD
TZOFFSETFROM:+0000
TZOFFSETTO:+0000
TZNAME:UTC
DTSTART:20080101T000000
END:STANDARD
END:VTIMEZONE
BEGIN:VEVENT
DTSTART;VALUE=DATE:20131022
DTEND;VALUE=DATE:20131028
DTSTAMP:20260423T163558
CREATED:20131030T222622Z
LAST-MODIFIED:20191107T093200Z
UID:14502-1382400000-1382918399@squashnet.de
SUMMARY:China Open 2013 (W)\, Shanghai
DESCRIPTION:Women:\nFinal:\n[1] Nicol David (MAS) bt [2] Raneem El Weleily (EGY) 	8-11\, 6-11\, 11-7\, 11-7\, 11-8 (45m) \nSemi-finals:\n[1] Nicol David (MAS) bt [8] Natalie Grinham (NED) 	13-11\, 12-10\, 11-6 (30m)\n[2] Raneem El Weleily (EGY) bt [4] Joelle King (NZL) 	11-5\, 9-11\, 11-3\, 11-6 (32m) \nQuarter-finals:\n[1] Nicol David (MAS) bt [Q] Dipika Pallikal (IND) 	11-6\, 9-11\, 11-6\, 11-6 (37m)\n[8] Natalie Grinham (NED) bt [3] Alison Waters (ENG) 	5-11\, 8-11\, 19-17\, 11-7\, 11-3 (62m)\n[4] Joelle King (NZL) bt [6] Jenny Duncalf (ENG) 	7-11\, 11-4\, 11-2\, 11-7 (31m)\n[2] Raneem El Weleily (EGY) bt [5] Low Wee Wern (MAS) 	11-4\, 11-3\, 10-12\, 11-3 (25m) \n1st round:\n[1] Nicol David (MAS) bt [WC] Li Dongjin (CHN) 	11-6\, 11-4\, 11-2 (22m)\n[Q] Dipika Pallikal (IND) bt [7] Madeline Perry (IRL) 	11-8\, 11-7\, 11-4 (38m)\n[3] Alison Waters (ENG) bt [Q] Nouran Ahmed Gohar (EGY) 	11-6\, 11-9\, 11-5 (32m)\n[8] Natalie Grinham (NED) bt Omneya Abdel Kawy (EGY) 	9-11\, 11-7\, 11-6\, 7-11\, 11-6 (57m)\n[6] Jenny Duncalf (ENG) bt Kasey Brown (AUS) 	11-5\, 11-5\, 5-11\, 11-4 (38m)\n[4] Joelle King (NZL) bt Annie Au (HKG) 	2-11\, 11-3\, 11-5\, 11-3 (35m)\n[5] Low Wee Wern (MAS) bt [Q] Rachael Grinham (AUS) 	11-4\, 7-11\, 11-9\, 7-11\, 11-5 (60m)\n[2] Raneem El Weleily (EGY) bt [Q] Donna Urquhart (AUS) 	8-11\, 11-4\, 11-9\, 11-9 (33m) \nQualifying finals:\nDipika Pallikal (IND) bt Misaki Kobayashi (JPN) 	11-4\, 11-3\, 11-8 (31m)\nNouran Ahmed Gohar (EGY) bt Nicolette Fernandes (GUY) 	7-11\, 11-5\, 11-8\, 11-4 (62m)\nDonna Urquhart (AUS) bt Aisling Blake (IRL) 	11-5\, 6-11\, 11-8\, 11-7 (45m)\nRachael Grinham (AUS) bt Delia Arnold (MAS) 	11-3\, 6-11\, 11-9\, 11-3 (47m) \n1st qualifying round:\nDipika Pallikal (IND) bt Jessica Turnbull (AUS) 	11-0\, 11-6\, 11-4 (20m)\nMisaki Kobayashi (JPN) bt Tong Tsz-Wing (HKG) 	9-11\, 11-5\, 11-7\, 6-11\, 11-6 (51m)\nNouran Ahmed Gohar (EGY) bt Joey Chan (HKG) 	11-5\, 11-7\, 11-6 (31m)\nNicolette Fernandes (GUY) bt Xiu Chen (CHN) 	11-3\, 11-2\, 11-6 (18m)\nAisling Blake (IRL) bt Liu Tsz-Ling (HKG) 	10-12\, 11-7\, 11-8\, 11-2 (42m)\nDonna Urquhart (AUS) bt Melody Francis (AUS) 	11-9\, 11-9\, 11-8 (27m)\nDelia Arnold (MAS) bt Gu Jinyue (CHN) 	11-6\, 11-6\, 11-6 (32m)\nRachael Grinham (AUS) bt Deon Saffery (WAL) 	11-6\, 11-7\, 11-9 (27m)
URL:https://squashnet.de/squash-event/china-open-2013-w-shanghai/
CATEGORIES:PSA Women
END:VEVENT
BEGIN:VEVENT
DTSTART;VALUE=DATE:20121023
DTEND;VALUE=DATE:20121029
DTSTAMP:20260423T163558
CREATED:20121025T052805Z
LAST-MODIFIED:20191107T091651Z
UID:13500-1350950400-1351468799@squashnet.de
SUMMARY:China Open 2012 (W)\, Shanghai
DESCRIPTION:Women:\nFinal:\n[6] Low Wee Wern (MAS) bt [7] Joelle King (NZL) 	6-11\, 11-4\, 3-11\, 11-3\, 11-9 (71m)  \nSemi-finals:\n[6] Low Wee Wern (MAS) bt [4] Kasey Brown (AUS) 	12-10\, 11-7\, 11-5 (39m)\n[7] Joelle King (NZL) bt [5] Alison Waters (ENG) 	12-10\, 11-4\, 11-6 (40m)  \nQuarter-finals:\n[6] Low Wee Wern (MAS) bt [Q] Omneya Abdel Kawy (EGY) 	8-11\, 11-9\, 5-11\, 11-6\, 11-9 (75m)\n[4] Kasey Brown (AUS) bt [Q] Aisling Blake (IRL) 	11-9\, 11-7\, 11-5 (49m)\n[7] Joelle King (NZL) bt [3] Annie Au (HKG) 	11-4\, 11-6\, 8-11\, 11-9 (61m)\n[5] Alison Waters (ENG) bt [2] Raneem El Weleily (EGY) 	7-11\, 11-4\, 11-1\, 8-11\, 13-11 (78m)  \n1st round:\n[Q] Omneya Abdel Kawy (EGY) bt [1] Jenny Duncalf (ENG) 	13-11\, 11-8\, 9-11\, 11-6 (58m)\n[6] Low Wee Wern (MAS) bt Rachael Grinham (AUS) 	7-11\, 11-9\, 11-3\, 11-8 (52m)\n[4] Kasey Brown (AUS) bt Li Dongjin (CHN) 	9-11\, 11-4\, 11-4\, 11-3 (40m)\n[Q] Aisling Blake (IRL) bt [8] Camille Serme (FRA) 	9-11\, 11-7\, 11-7\, 1-11\, 12-10 (59m)\n[7] Joelle King (NZL) bt [Q] Sarah Kippax (ENG) 	11-7\, 12-10\, 11-7 (60m)\n[3] Annie Au (HKG) bt Donna Urquhart (AUS) 	11-4\, 8-11\, 2-11\, 11-9\, 11-7 (42m)\n[5] Alison Waters (ENG) bt [Q] Joey Chan (HKG) 	11-6\, 8-11\, 11-2\, 9-11\, 11-4 (53m)\n[2] Raneem El Weleily (EGY) bt Samantha Teran (MEX) 	w/o \nQualifying finals:\nJoey Chan (HKG) bt Emily Whitlock (ENG) 	11-7\, 5-11\, 11-2\, 11-3\nAisling Blake (IRL) bt Liu Tsz-Ling (HKG) 	11-2\, 11-7\, 11-6\nOmneya Abdel Kawy (EGY) bt Delia Arnold (MAS) 	11-4\, 11-6\, 8-11\, 12-10\nSarah Kippax (ENG) bt Laura Pomportes (FRA) 	11-8\, 11-4\, 11-3  \n1st qualifying round:\nJoey Chan (HKG) 	bye\nEmily Whitlock (ENG) 	bye\nAisling Blake (IRL) 	bye\nLiu Tsz-Ling (HKG) bt Xiu Chen (CHN) 	11-2\, 13-11\, 11-8 (33m)\nOmneya Abdel Kawy (EGY) 	bye\nDelia Arnold (MAS) 	bye\nLaura Pomportes (FRA) bt Gu Jinyue (CHN) 	11-4\, 11-3\, 11-8 (27m)\nSarah Kippax (ENG) 	bye
URL:https://squashnet.de/squash-event/china-open-2012-w-shanghai/
CATEGORIES:PSA Women
END:VEVENT
BEGIN:VEVENT
DTSTART;VALUE=DATE:20111009
DTEND;VALUE=DATE:20111015
DTSTAMP:20260423T163558
CREATED:20120424T210136Z
LAST-MODIFIED:20191107T085701Z
UID:13252-1318118400-1318636799@squashnet.de
SUMMARY:China Open 2011 (W)\, Shanghai
DESCRIPTION:Women:\nFinal:\n[2] Low Wee Wern (MAS) bt [4] Delia Arnold (MAS) 	13-15\, 11-8\, 11-4\, 12-10  \nSemi-finals:\n[4] Delia Arnold (MAS) bt [1] Jaclyn Hawkes (NZL) 	2-11\, 10-12\, 11-8\, 11-7\, 11-9\n[2] Low Wee Wern (MAS) bt [5] Heba El Torky (EGY) 	11-7\, 11-5\, 11-7 \nQuarter-finals:\n[1] Jaclyn Hawkes (NZL) bt Misaki Kobayashi (JPN) 	11-8\, 5-11\, 11-5\, 11-2\n[4] Delia Arnold (MAS) bt Nouran El Torky (EGY) 	11-7\, 8-11\, 11-3\, 11-3\n[5] Heba El Torky (EGY) bt [3] Joey Chan (HKG) 	12-10\, 1-11\, 11-5\, 8-11\, 13-11\n[2] Low Wee Wern (MAS) bt [8] Siyoli Waters (RSA) 	11-4\, 11-6\, 11-2 \n1st round:\n[1] Jaclyn Hawkes (NZL) bt Gu Jinyue (CHN) 	11-0\, 11-3\, 11-6\nMisaki Kobayashi (JPN) bt [6] Kylie Lindsay (NZL) 	12-14\, 12-0\, 11-8\, 11-9\n[4] Delia Arnold (MAS) bt Aparajitha Balamurukan (IND) 	11-2\, 11-4\, 11-7\nNouran El Torky (EGY) bt [7] Siti Munirah Jusoh (MAS) 	7-11\, 11-9\, 11-8\, 9-11\, 11-9\n[5] Heba El Torky (EGY) bt Olga Ertlova (CZE) 	11-7\, 11-6\, 11-5\n[3] Joey Chan (HKG) bt Li Dongjin (CHN) 	11-3\, 11-4\, 11-3\n[8] Siyoli Waters (RSA) bt Pushppa Devi (MAS) 	7-11\, 11-5\, 11-6\, 11-8\n[2] Low Wee Wern (MAS) bt Milou van der Heijden (NED) 	11-4\, 11-1\, 11-2
URL:https://squashnet.de/squash-event/china-open-2011-w-shanghai/
CATEGORIES:WISPA
END:VEVENT
BEGIN:VEVENT
DTSTART;VALUE=DATE:20100913
DTEND;VALUE=DATE:20100919
DTSTAMP:20260423T163558
CREATED:20120424T205926Z
LAST-MODIFIED:20191107T083641Z
UID:1089-1284336000-1284854399@squashnet.de
SUMMARY:Bailian New Era Mall China Open 2010 (W)\, Shanghai
DESCRIPTION:Women:\nFinal:\n[1] Joey Chan (HKG) bt [2] Lisa Camilleri (AUS) 	11-6\, 11-13\, 11-9\, 7-11\, 11-8 \nSemi-finals:\n[1] Joey Chan (HKG) bt [3] Orla Noom (NED) 	11-4\, 11-5\, 11-7\n[2] Lisa Camilleri (AUS) bt Li Dongjin (CHN) 	11-8\, 11-5\, 11-5 \nQuarter-finals:\n[1] Joey Chan (HKG) bt Chinatsu Matsui (JPN) 	11-6\, 11-5\, 11-7\n[3] Orla Noom (NED) bt [7] Sarah Cardwell (AUS) 	11-9\, 11-3\, 11-1\nLi Dongjin (CHN) bt [4] Siti Munirah Jusoh (MAS) 	5-11\, 11-6\, 14-16\, 11-8\, 11-8\n[2] Lisa Camilleri (AUS) bt Miwa Maekawa (JPN) 	11-6\, 11-4\, 11-7 \n1st round:\n[1] Joey Chan (HKG) bt Rushna Mehboob (PAK) 	w/o\nChinatsu Matsui (JPN) bt [8] Olga Ertlova (CZE) 	12-10\, 11-6\, 15-13\n[3] Orla Noom (NED) bt Carrie Ramsey (ENG) 	11-9\, 5-11\, 11-5\, 11-8\n[7] Sarah Cardwell (AUS) bt [Q] Mayu Yamazaki (JPN) 	11-5\, 11-8\, 11-7\nLi Dongjin (CHN) bt [6] Melody Francis (AUS) 	5-11\, 11-7\, 3-11\, 11-8\, 11-5\n[4] Siti Munirah Jusoh (MAS) bt Liu Tsz-Ling (HKG) 	11-9\, 14-12\, 11-9\nMiwa Maekawa (JPN) bt [5] Elise Ng (HKG) 	11-8\, 11-5\, 12-10\n[2] Lisa Camilleri (AUS) bt [Q] Gu Jin Yue (CHN) 	11-3\, 11-4\, 11-4 \nQualifying finals:\nGu Jin Yue (CHN) bt Saima Shoukat (PAK) 	w/o\nMayu Yamazaki (JPN) bt Jiang Li (CHN) 	11-1 ret. \n1st qualifying round:\nSaima Shoukat (PAK) 	bye\nGu Jin Yue (CHN) bt Sally Skaarenborg (DEN) 	7-11\, 4-11\, 11-6\, 11-4\, 12-10\nJiang Li (CHN) bt Xiu Chen (CHN) 	11-5\, 10-12\, 10-12\, 11-8\, 11-9\nMayu Yamazaki (JPN) bt Hong Shen (CHN) 	11-5\, 11-7\, 11-4
URL:https://squashnet.de/squash-event/bailian-new-era-mall-china-open-2010-w-shanghai/
CATEGORIES:WISPA
END:VEVENT
BEGIN:VEVENT
DTSTART;VALUE=DATE:20100913
DTEND;VALUE=DATE:20100919
DTSTAMP:20260423T163558
CREATED:20120424T205925Z
LAST-MODIFIED:20191107T023731Z
UID:1088-1284336000-1284854399@squashnet.de
SUMMARY:Bailian New Era Mall China Open 2010 (M)\, Shanghai
DESCRIPTION:Men:\nFinal:\n[1] Aaron Frankcomb (AUS) bt [3] Kristian Frost Olesen (DEN) 	11-8\, 11-3\, 11-6 \nSemi-finals:\n[1] Aaron Frankcomb (AUS) bt [7] Omar Abdel Meguid (EGY) 	11-8\, 11-8\, 11-6\n[3] Kristian Frost Olesen (DEN) bt Anson Kwong (HKG) 	11-8\, 11-5\, 11-3 \nQuarter-finals:\n[1] Aaron Frankcomb (AUS) bt [6] Neil Hitchens (ENG) 	11-5\, 11-8\, 11-9\n[7] Omar Abdel Meguid (EGY) bt Mazen Gamal (EGY) 	11-7\, 11-4\, 11-6\n[3] Kristian Frost Olesen (DEN) bt [5] Kamran Khan (MAS) 	11-2\, 11-7\, 11-3\nAnson Kwong (HKG) bt [2] Karim AGA Samy (EGY) 	11-9\, 7-11\, 11-9\, 11-6 \n1st round:\n[1] Aaron Frankcomb (AUS) bt [Q] Leo Au (HKG) 	11-7\, 11-8\, 11-9\n[6] Neil Hitchens (ENG) bt [Q] Cheng Yao Huang (TPE) 	8-11\, 6-11\, 11-6\, 11-7\, 11-9\nMazen Gamal (EGY) bt [4] Dick Lau (HKG) 	4-11\, 11-4\, 11-4\, 10-12\, 11-8\n[7] Omar Abdel Meguid (EGY) bt [Q] Valentino Bong (MAS) 	5-11\, 11-2\, 11-7\, 11-2\n[5] Kamran Khan (MAS) bt Xiaomin Meng (CHN) 	11-6\, 13-11\, 11-7\n[3] Kristian Frost Olesen (DEN) bt Ahmed Hawas (EGY) 	11-5\, 11-2\, 11-4\nAnson Kwong (HKG) bt [8] Choong Kam Hing (MAS) 	11-9\, 11-9\, 11-4\n[2] Karim AGA Samy (EGY) bt [Q] Hon Fung Wong (HKG) 	11-5\, 11-5\, 11-7 \nQualifying finals:\nLeo Au (HKG) bt Se Hyun Lee (KOR) 	11-1\, 11-5\, 11-8\nHon Fung Wong (HKG) bt Le Roy Leong (MAS) 	11-2\, 11-3\, 11-3\nValentino Bong (MAS) bt Maekawa Kosuke (JPN) 	11-7\, 11-4\, 11-7\nCheng Yao Huang (TPE) bt Caspar Grauball Nielsen (DEN) 	9-11\, 11-6\, 11-4\, 11-2 \n1st qualifying round:\nLeo Au (HKG) 	bye\nSe Hyun Lee (KOR) bt Wang Jun Jie (CHN) 	11-6\, 11-4\, 11-4\nLe Roy Leong (MAS) 	bye\nHon Fung Wong (HKG) bt Liang Jun (CHN) 	11-3\, 11-3\, 11-4\nValentino Bong (MAS) bt Li Zhi Yuan (CHN) 	11-3\, 11-0\, 11-4\nMaekawa Kosuke (JPN) 	bye\nCaspar Grauball Nielsen (DEN) bt Shen Jia Qi (CHN) 	11-2\, 11-3\, 11-6\nCheng Yao Huang (TPE) 	bye
URL:https://squashnet.de/squash-event/bailian-new-era-mall-china-open-2010-m-shanghai/
CATEGORIES:PSA Men
END:VEVENT
BEGIN:VEVENT
DTSTART;VALUE=DATE:20091028
DTEND;VALUE=DATE:20091102
DTSTAMP:20260423T163558
CREATED:20120424T205805Z
LAST-MODIFIED:20191107T081759Z
UID:12841-1256688000-1257119999@squashnet.de
SUMMARY:Bailian New Era Mall China Open 2009 (D)\, Shanghai
DESCRIPTION:Herren:\nFinal:\n[4] Chinatsu Matsui (JPN) bt [2] Song Sun-Mi (KOR) 	11-8\, 7-11\, 11-4\, 11-4 (32m) \nSemi-finals:\n[4] Chinatsu Matsui (JPN) bt [1] Siti Munirah Jusoh (MAS) 	11-9\, 11-3\, 11-4 (24m)\n[2] Song Sun-Mi (KOR) bt [3] Melody Francis (AUS) 	10-12\, 11-4\, 11-8\, 11-8 (31m) \nQuarter-finals:\n[1] Siti Munirah Jusoh (MAS) bt [6] Maria Toor Pakay (PAK) 	11-5\, 11-8\, 11-8 (30m)\n[4] Chinatsu Matsui (JPN) bt [7] Zoe Petrovansky (AUS) 	11-1\, 11-1\, 11-3 (15m)\n[3] Melody Francis (AUS) bt [Q] Ho Ka Po (HKG) 	11-5\, 12-10\, 11-8 (25m)\n[2] Song Sun-Mi (KOR) bt [5] Misaki Kobayashi (JPN) 	11-6\, 11-4\, 10-12\, 11-5 (38m) \n1st round:\n[1] Siti Munirah Jusoh (MAS) bt Yu Ra Choi (KOR) 	11-5\, 11-4\, 11-2 (20m)\n[6] Maria Toor Pakay (PAK) bt Miwa Maekawa (JPN) 	11-8\, 11-5\, 11-8 (23m)\n[4] Chinatsu Matsui (JPN) bt Maggy Marshall (AUS) 	9-11\, 11-4\, 11-4\, 11-4 (33m)\n[7] Zoe Petrovansky (AUS) bt Jiang Li (CHN) 	11-4\, 11-5\, 11-6 (21m)\n[Q] Ho Ka Po (HKG) bt [8] Jenna Gates (ENG) 	11-5\, 11-9\, 11-3 (22m)\n[3] Melody Francis (AUS) bt Carmen Lee (HKG) 	11-4\, 11-8\, 11-6 (28m)\n[5] Misaki Kobayashi (JPN) bt Carrie Hastings (ENG) 	11-5\, 11-4\, 11-1 (23m)\n[2] Song Sun-Mi (KOR) bt [Q] Li Dongjin (CHN) 	11-3\, 11-2\, 11-8 (18m) \nQualifying finals:\nHo Ka Po (HKG) bt Wu Zhenzhen (CHN) 	9-11\, 11-4\, 11-1\, 11-6 (31m)\nLi Dongjin (CHN) bt Xiu Chen (CHN) 	11-8\, 11-7\, 11-6 (30m) \n1st qualifying round:\nHo Ka Po (HKG) 	bye\nWu Zhenzhen (CHN) 	bye\nLi Dongjin (CHN) bt Gu Jin Yue (CHN) 	11-3\, 11-6\, 11-4 (35m)\nXiu Chen (CHN) 	bye
URL:https://squashnet.de/squash-event/bailian-new-era-mall-china-open-2009-d-shanghai/
CATEGORIES:WISPA
END:VEVENT
BEGIN:VEVENT
DTSTART;VALUE=DATE:20091027
DTEND;VALUE=DATE:20091102
DTSTAMP:20260423T163558
CREATED:20120424T205804Z
LAST-MODIFIED:20191107T081732Z
UID:12838-1256601600-1257119999@squashnet.de
SUMMARY:Bailian New Era Mall China Open 2009 (H)\, Shanghai
DESCRIPTION:Herren:\nFinal:\n[2] Ryan Cuskelly (AUS) bt [4] Matthew Karwalski (AUS) 	11-9\, 11-5\, 4-11\, 8-11\, 11-2 (64m) \nSemi-finals:\n[4] Matthew Karwalski (AUS) bt [5] Dick Lau (HKG) 	11-8\, 11-8\, 11-8 (29m)\n[2] Ryan Cuskelly (AUS) bt [7] Max Lee (HKG) 	11-5\, 11-7\, 6-11\, 6-11\, 11-6 (82m) \nQuarter-finals:\n[5] Dick Lau (HKG) bt [1] Jan Koukal (CZE) 	8-11\, 11-9\, 11-8\, 11-8 (64m)\n[4] Matthew Karwalski (AUS) bt Siddharth Suchde (IND) 	6-11\, 11-9\, 6-11\, 11-9\, 11-3 (56m)\n[7] Max Lee (HKG) bt [3] Rob Sutherland (WAL) 	11-9\, 11-5\, 10-12\, 11-8 (53m)\n[2] Ryan Cuskelly (AUS) bt Kristian Frost Olesen (DEN) 	12-10\, 8-11\, 11-5\, 11-3 (62m) \n1st round:\n[1] Jan Koukal (CZE) bt [Q] Jo Wen Ng (MAS) 	11-6\, 11-6\, 11-7\n[5] Dick Lau (HKG) bt Aqeel Rehman (AUT) 	11-9\, 13-11\, 11-7 (56m)\n[4] Matthew Karwalski (AUS) bt Xiaomin Meng (CHN) 	11-2\, 11-6\, 11-3 (22m)\nSiddharth Suchde (IND) bt [8] James Snell (ENG) 	3-11\, 11-8\, 11-6\, 6-11\, 12-10 (67m)\n[7] Max Lee (HKG) bt [Q] Choong Kam Hing (MAS) 	11-9\, 11-8\, 11-7\n[3] Rob Sutherland (WAL) bt [Q] Anson Kwong (HKG) 	10-12\, 11-6\, 11-9\, 11-6\nKristian Frost Olesen (DEN) bt [6] Jens Schoor (GER) 	11-5\, 11-7\, 11-5 (46m)\n[2] Ryan Cuskelly (AUS) bt [Q] Tsukue Shinnosuke (JPN) 	11-9\, 11-5\, 11-3 (34m) \nQualifying finals:\nAnson Kwong (HKG) bt Maekawa Kosuke (JPN) 	11-8\, 11-3\, 9-11\, 11-9 (55m)\nTsukue Shinnosuke (JPN) bt Cheng Yao Huang (TPE) 	4-11\, 12-14\, 11-5\, 11-1\, 11-8 (54m)\nJo Wen Ng (MAS) bt Mohammad Reza Sadeghpour (IRI) 	11-9\, 12-10\, 9-11\, 11-7 (51m)\nChoong Kam Hing (MAS) bt Yuta Fukui (JPN) 	9-11\, 11-7\, 13-11\, 11-5 (41m) \n1st qualifying round:\nAnson Kwong (HKG) 	bye\nMaekawa Kosuke (JPN) bt Shen Jia Qi (CHN) 	11-5\, 11-7\, 11-5 (29m)\nCheng Yao Huang (TPE) bt Andre Stahl (CHN) 	11-6\, 11-2\, 11-5 (22m)\nTsukue Shinnosuke (JPN) bt Nyeon-Ho Lee (KOR) 	11-9\, 11-5\, 9-11\, 2-11\, 11-8 (48m)\nMohammad Reza Sadeghpour (IRI) bt Li Zhi Yuan (CHN) 	11-5\, 11-5\, 11-9 (17m)\nJo Wen Ng (MAS) bt Wang Jun Jie (CHN) 	11-2\, 11-4\, 11-9 (26m)\nYuta Fukui (JPN) bt Chang Wook Woo (KOR) 	12-10\, 11-3\, 11-5 (26m)\nChoong Kam Hing (MAS) bt Masoud Gharehzyaldini (IRI) 	11-9\, 11-1\, 11-3 (16m)
URL:https://squashnet.de/squash-event/bailian-new-era-mall-china-open-2009-h-shanghai/
CATEGORIES:PSA Men
END:VEVENT
BEGIN:VEVENT
DTSTART;VALUE=DATE:20081016
DTEND;VALUE=DATE:20081020
DTSTAMP:20260423T163558
CREATED:20120424T205658Z
LAST-MODIFIED:20191107T075350Z
UID:12638-1224115200-1224460799@squashnet.de
SUMMARY:Bailian New Era Mall China Open (D)\, Shanghai
DESCRIPTION:Damen:\nFinal:\n[3] Heba El Torky (EGY) bt [5] Nouran El Torky (EGY) 	11-13\, 13-11\, 11-8\, 6-11\, 11-6 (44m) \nSemi-finals:\n[3] Heba El Torky (EGY) bt [1] Christina Mak (HKG) 	11-9\, 12-10\, 6-11\, 11-7 (44m)\n[5] Nouran El Torky (EGY) bt [2] Deon Saffery (WAL) 	9-11\, 11-5\, 11-7\, 11-5 (39m) \nQuarter-finals:\n[1] Christina Mak (HKG) bt Irina Assal (RUS) 	11-8\, 11-7\, 11-1 (22m)\n[3] Heba El Torky (EGY) bt Hong Shen (CHN) 	11-2\, 11-2\, 11-0 (11m)\n[5] Nouran El Torky (EGY) bt [4] Shin Nga Leung (HKG) 	11-7\, 11-5\, 11-6 (23m)\n[2] Deon Saffery (WAL) bt [6] Kuan Choy Lin (MAS) 	11-3\, 11-4\, 11-8 (15m) \n1st round:\n[1] Christina Mak (HKG) bt Ou Wei (CHN) 	11-3\, 11-4\, 11-4 (12m)\nIrina Assal (RUS) bt [7] Wei Lin Hooi (MAS) 	12-10\, 11-5\, 11-6 (19m)\n[3] Heba El Torky (EGY) bt Xiu Chen (CHN) 	11-2\, 11-6\, 11-6 (18m)\nHong Shen (CHN) bt [8] Hengameh Habibpour (IRI) 	11-4\, 11-2\, 11-4 (11m)\n[5] Nouran El Torky (EGY) bt Wu Zhenzhen (CHN) 	11-4\, 11-6\, 11-4 (16m)\n[4] Shin Nga Leung (HKG) bt Li Dongjin (CHN) 	11-2\, 11-4\, 11-6 (20m)\n[6] Kuan Choy Lin (MAS) bt Jiang Li (CHN) 	7-11\, 11-2\, 11-2\, 11-5 (24m)\n[2] Deon Saffery (WAL) bt Chai Wensham (CHN) 	11-3\, 11-9\, 11-8 (17m)
URL:https://squashnet.de/squash-event/bailian-new-era-mall-china-open-d-shanghai/
CATEGORIES:WISPA
END:VEVENT
BEGIN:VEVENT
DTSTART;VALUE=DATE:20081016
DTEND;VALUE=DATE:20081020
DTSTAMP:20260423T163558
CREATED:20120424T205658Z
LAST-MODIFIED:20191106T155532Z
UID:12637-1224115200-1224460799@squashnet.de
SUMMARY:Bailian New Era Mall China Open (H)\, Shanghai
DESCRIPTION:Herren:\nFinal:\n[5] Stephane Galifi (FRA) bt [2] Max Lee (HKG) 	11-8\, 11-4\, 10-12\, 11-8 (56m) \nSemi-finals:\n[5] Stephane Galifi (FRA) bt [3] Romain Tenant (FRA) 	11-5\, 11-5\, 11-5 (39m)\n[2] Max Lee (HKG) bt [4] David Vidal (ESP) 	6-11\, 11-6\, 10-12\, 11-2\, 11-4 (60m) \nQuarter-finals:\n[5] Stephane Galifi (FRA) bt [1] Dick Lau (HKG) 	11-4\, 12-10\, 11-3 (32m)\n[3] Romain Tenant (FRA) bt [6] Neil Hitchens (ENG) 	11-8\, 11-6\, 11-4 (36m)\n[4] David Vidal (ESP) bt [7] Elvinn Keo (MAS) 	11-9\, 9-11\, 7-11\, 11-8\, 11-8 (65m)\n[2] Max Lee (HKG) bt Andrew Wagih Shoukry (EGY) 	13-11\, 6-11\, 11-8\, 11-9 (54m) \n1st round:\n[1] Dick Lau (HKG) bt Choong Kam Hing (MAS) 	7-11\, 11-7\, 11-6\, 11-8 (39m)\n[5] Stephane Galifi (FRA) bt Johan Bouquet (FRA) 	11-7\, 11-7\, 11-7 (50m)\n[3] Romain Tenant (FRA) bt Basem Makram (EGY) 	11-8\, 10-12\, 11-2\, 11-3 (41m)\n[6] Neil Hitchens (ENG) bt Xiaomin Meng (CHN) 	11-2\, 11-3\, 11-6 (19m)\n[7] Elvinn Keo (MAS) bt Cheng Yao Huang (TPE) 	7-11\, 11-9\, 17-15\, 4-11\, 11-9 (59m)\n[4] David Vidal (ESP) bt Anson Kwong (HKG) 	11-9\, 15-13\, 11-9 (45m)\nAndrew Wagih Shoukry (EGY) bt [8] Karim AGA Samy (EGY) 	6-11\, 11-6\, 11-6\, 11-3 (40m)\n[2] Max Lee (HKG) bt Alex Ingham (ENG) 	10-12\, 11-2\, 11-2\, 11-3 (40m)
URL:https://squashnet.de/squash-event/bailian-new-era-mall-china-open-h-shanghai/
CATEGORIES:PSA Men
END:VEVENT
END:VCALENDAR